BEGIN:VCALENDAR
VERSION:2.0
PRODID:-//Wythenshawe Masjid - ECPv6.14.2//NONSGML v1.0//EN
CALSCALE:GREGORIAN
METHOD:PUBLISH
X-ORIGINAL-URL:https://wythenshawemasjid.org
X-WR-CALDESC:Events for Wythenshawe Masjid
REFRESH-INTERVAL;VALUE=DURATION:PT1H
X-Robots-Tag:noindex
X-PUBLISHED-TTL:PT1H
BEGIN:VTIMEZONE
TZID:Europe/London
BEGIN:DAYLIGHT
TZOFFSETFROM:+0000
TZOFFSETTO:+0100
TZNAME:BST
DTSTART:20260329T010000
END:DAYLIGHT
BEGIN:STANDARD
TZOFFSETFROM:+0100
TZOFFSETTO:+0000
TZNAME:GMT
DTSTART:20261025T010000
END:STANDARD
END:VTIMEZONE
BEGIN:VEVENT
DTSTART;TZID=Europe/London:20260424T173000
DTEND;TZID=Europe/London:20260424T190000
DTSTAMP:20260425T163752
CREATED:20260412T215658Z
LAST-MODIFIED:20260412T224351Z
UID:10003090-1777051800-1777057200@wythenshawemasjid.org
SUMMARY:Children’s Study Circle
DESCRIPTION:Children’s Study Circle \n✨An eleven-week interactive and engaging study circle to help young boys & girls learn about their deen. \n🎨 Lots of fun activities and arts & crafts to help learn about ibadah\, iman\, seerah and more! \n📅 Starting 24th April 2026 \n🕒 Fridays 17:30 – 19:00 \n🚹 Boys aged 7-10 \n🚺 Girls aged 7-10 \n🎟️ £35 for access to all 11 classes \n📧 office@wythenshawemasjid.org \nJazakum Allahu Khayr \nWythenshawe Masjid
URL:https://wythenshawemasjid.org/events-activities/childrens-study-circle-8/
LOCATION:Wythenshawe Masjid\, 7 Moor End\, Wythenshawe\, M22 4JQ\, United Kingdom
CATEGORIES:Family,Young Brothers,Young Sisters
ATTACH;FMTTYPE=image/jpeg:https://wythenshawemasjid.org/wp-content/uploads/2026/04/ddcffa29-1fe1-484e-9be0-539cfb969b3c.jpg
ORGANIZER;CN="WMA Team":MAILTO:office@wythenshawemasjid.org
END:VEVENT
END:VCALENDAR