BEGIN:VCALENDAR
VERSION:2.0
PRODID:-//Wythenshawe Masjid - ECPv6.14.2//NONSGML v1.0//EN
CALSCALE:GREGORIAN
METHOD:PUBLISH
X-WR-CALNAME:Wythenshawe Masjid
X-ORIGINAL-URL:https://wythenshawemasjid.org
X-WR-CALDESC:Events for Wythenshawe Masjid
REFRESH-INTERVAL;VALUE=DURATION:PT1H
X-Robots-Tag:noindex
X-PUBLISHED-TTL:PT1H
BEGIN:VTIMEZONE
TZID:Europe/London
BEGIN:DAYLIGHT
TZOFFSETFROM:+0000
TZOFFSETTO:+0100
TZNAME:BST
DTSTART:20250330T010000
END:DAYLIGHT
BEGIN:STANDARD
TZOFFSETFROM:+0100
TZOFFSETTO:+0000
TZNAME:GMT
DTSTART:20251026T010000
END:STANDARD
END:VTIMEZONE
BEGIN:VEVENT
DTSTART;TZID=Europe/London:20251212T193000
DTEND;TZID=Europe/London:20251212T220000
DTSTAMP:20260426T021637
CREATED:20251204T093247Z
LAST-MODIFIED:20251204T093331Z
UID:10003071-1765567800-1765576800@wythenshawemasjid.org
SUMMARY:Boys Youth Qiyaam
DESCRIPTION:Boys’ Youth Qiyam \n🗓️ Friday 10th October \n🕒 7:45pm – 10:00 pm \n🚹 Brothers aged 12-18 \n🍕 Food and refreshments provided \n💬 Reminders\, activities and more… \n❕Limited spaces – please register at: \n⚠️ Registration closes Thursday 10th December 8pm \n❗️No registration\, no entry \n‼️ If you register and do not attend without cancelling\, you will not be allowed to attend next month’s Qiyam. If you need to cancel your registration\, you must notify us via email by 8pm on Thursday 11th December \n📧 office@wythenshawemasjid.org \nJazakum Allahu Khayr \nWythenshawe Masjid
URL:https://wythenshawemasjid.org/events-activities/boys-youth-qiyaam-3/
LOCATION:Wythenshawe Masjid\, 7 Moor End\, Wythenshawe\, M22 4JQ\, United Kingdom
CATEGORIES:Young Brothers
ATTACH;FMTTYPE=image/webp:https://wythenshawemasjid.org/wp-content/uploads/2025/12/Qiyam.webp
ORGANIZER;CN="WMA Team":MAILTO:office@wythenshawemasjid.org
END:VEVENT
END:VCALENDAR