BEGIN:VCALENDAR
VERSION:2.0
PRODID:-//Wythenshawe Masjid - ECPv6.14.2//NONSGML v1.0//EN
CALSCALE:GREGORIAN
METHOD:PUBLISH
X-WR-CALNAME:Wythenshawe Masjid
X-ORIGINAL-URL:https://wythenshawemasjid.org
X-WR-CALDESC:Events for Wythenshawe Masjid
REFRESH-INTERVAL;VALUE=DURATION:PT1H
X-Robots-Tag:noindex
X-PUBLISHED-TTL:PT1H
BEGIN:VTIMEZONE
TZID:Europe/London
BEGIN:DAYLIGHT
TZOFFSETFROM:+0000
TZOFFSETTO:+0100
TZNAME:BST
DTSTART:20250330T010000
END:DAYLIGHT
BEGIN:STANDARD
TZOFFSETFROM:+0100
TZOFFSETTO:+0000
TZNAME:GMT
DTSTART:20251026T010000
END:STANDARD
END:VTIMEZONE
BEGIN:VEVENT
DTSTART;TZID=Europe/London:20251122T123000
DTEND;TZID=Europe/London:20251122T163000
DTSTAMP:20260426T034737
CREATED:20251104T135716Z
LAST-MODIFIED:20251119T140904Z
UID:10003069-1763814600-1763829000@wythenshawemasjid.org
SUMMARY:Brothers Archery Tag
DESCRIPTION:Archertype (Tag Archery) \n🗓️ Saturday 22nd November \n🕒 12:30 – 16:30 \n🚹 Brothers aged 13-17 \n🍕 Transport\, Food and refreshments provided \n£25 per person \n⚠️ Registration closes Saturday 15th November 3pm \n❗️ No registration\, no entry \n‼️ If you register and do not attend without cancelling\, you will not be eligible for a refund. If you need to cancel your registration\, you must notify us via email by 3pm Saturday 15 November\n📧 office@wythenshawemasjid.org \nJazakum Allahu Khayr \nWythenshawe Masjid
URL:https://wythenshawemasjid.org/events-activities/brothers-archery-tag/
LOCATION:Wythenshawe Masjid\, 7 Moor End\, Wythenshawe\, M22 4JQ\, United Kingdom
CATEGORIES:Young Brothers
ATTACH;FMTTYPE=image/jpeg:https://wythenshawemasjid.org/wp-content/uploads/2025/11/a235fbd8-6158-4f69-9e6c-e2d1b383853a-1.jpg
ORGANIZER;CN="WMA Team":MAILTO:office@wythenshawemasjid.org
END:VEVENT
END:VCALENDAR