BEGIN:VCALENDAR
VERSION:2.0
PRODID:-//Wythenshawe Masjid - ECPv6.14.2//NONSGML v1.0//EN
CALSCALE:GREGORIAN
METHOD:PUBLISH
X-WR-CALNAME:Wythenshawe Masjid
X-ORIGINAL-URL:https://wythenshawemasjid.org
X-WR-CALDESC:Events for Wythenshawe Masjid
REFRESH-INTERVAL;VALUE=DURATION:PT1H
X-Robots-Tag:noindex
X-PUBLISHED-TTL:PT1H
BEGIN:VTIMEZONE
TZID:Europe/London
BEGIN:DAYLIGHT
TZOFFSETFROM:+0000
TZOFFSETTO:+0100
TZNAME:BST
DTSTART:20260329T010000
END:DAYLIGHT
BEGIN:STANDARD
TZOFFSETFROM:+0100
TZOFFSETTO:+0000
TZNAME:GMT
DTSTART:20261025T010000
END:STANDARD
END:VTIMEZONE
BEGIN:VEVENT
DTSTART;TZID=Europe/London:20260331T110000
DTEND;TZID=Europe/London:20260331T120000
DTSTAMP:20260425T163045
CREATED:20260322T214518Z
LAST-MODIFIED:20260323T150219Z
UID:10003087-1774954800-1774958400@wythenshawemasjid.org
SUMMARY:Ladies Fitness Class
DESCRIPTION:Ladies Fitness Class \n💪 Six fitness classes led by a qualified instructor. \n✨ “There are two blessings which many people waste: health and free time.” Al-Bukhari \n🚺 Ladies aged 18+ \n🏃‍♀️ Medium level of fitness required – equipment provided \n📅 Every Tuesday starting Tuesday 31st March to 19th May (two Tuesdays off on the 7th and 14th of April). \n🕒 11:00 to 11:45am \n£20 fee for all six classes \nEnquiries: office@wythenshawemasjid.org \nJazakum Allahu Khayr \nWythenshawe Masjid
URL:https://wythenshawemasjid.org/events-activities/ladies-fitness-class-19/
LOCATION:Wythenshawe Masjid\, 7 Moor End\, Wythenshawe\, M22 4JQ\, United Kingdom
CATEGORIES:Sisters Event
ATTACH;FMTTYPE=image/jpeg:https://wythenshawemasjid.org/wp-content/uploads/2026/03/IMG-20260323-WA0009.jpg
ORGANIZER;CN="WMA Team":MAILTO:office@wythenshawemasjid.org
END:VEVENT
END:VCALENDAR