BEGIN:VCALENDAR
VERSION:2.0
PRODID:-//Wythenshawe Masjid - ECPv6.14.2//NONSGML v1.0//EN
CALSCALE:GREGORIAN
METHOD:PUBLISH
X-WR-CALNAME:Wythenshawe Masjid
X-ORIGINAL-URL:https://wythenshawemasjid.org
X-WR-CALDESC:Events for Wythenshawe Masjid
REFRESH-INTERVAL;VALUE=DURATION:PT1H
X-Robots-Tag:noindex
X-PUBLISHED-TTL:PT1H
BEGIN:VTIMEZONE
TZID:Europe/London
BEGIN:DAYLIGHT
TZOFFSETFROM:+0000
TZOFFSETTO:+0100
TZNAME:BST
DTSTART:20220327T010000
END:DAYLIGHT
BEGIN:STANDARD
TZOFFSETFROM:+0100
TZOFFSETTO:+0000
TZNAME:GMT
DTSTART:20221030T010000
END:STANDARD
BEGIN:DAYLIGHT
TZOFFSETFROM:+0000
TZOFFSETTO:+0100
TZNAME:BST
DTSTART:20230326T010000
END:DAYLIGHT
BEGIN:STANDARD
TZOFFSETFROM:+0100
TZOFFSETTO:+0000
TZNAME:GMT
DTSTART:20231029T010000
END:STANDARD
BEGIN:DAYLIGHT
TZOFFSETFROM:+0000
TZOFFSETTO:+0100
TZNAME:BST
DTSTART:20240331T010000
END:DAYLIGHT
BEGIN:STANDARD
TZOFFSETFROM:+0100
TZOFFSETTO:+0000
TZNAME:GMT
DTSTART:20241027T010000
END:STANDARD
END:VTIMEZONE
BEGIN:VEVENT
DTSTART;TZID=Europe/London:20240922T190000
DTEND;TZID=Europe/London:20240922T203000
DTSTAMP:20260426T034619
CREATED:20240915T162008Z
LAST-MODIFIED:20240915T162010Z
UID:10002085-1727031600-1727037000@wythenshawemasjid.org
SUMMARY:Tafseer with Imam Abu Zaid
DESCRIPTION:Tafseer with Imam Abu Zaid \n✨A four-week course exploring short surahs from the Qur’an \n📖 Topics will include:\n•⁠ ⁠Manners\n•⁠ ⁠Faith\n•⁠ ⁠Tawheed\n•⁠ ⁠And much more… \n📅 Starting Sunday 22nd September \n🕒 Sundays after Salatul Maghrib \n✅ Brothers & Sisters Welcome \nJazakum Allahu Khayr
URL:https://wythenshawemasjid.org/events-activities/tafseer-with-imam-abu-zaid-3-2/
LOCATION:Wythenshawe Masjid\, 7 Moor End\, Wythenshawe\, M22 4JQ\, United Kingdom
CATEGORIES:Brothers Events,Religious Event,Sisters Event
ATTACH;FMTTYPE=image/webp:https://wythenshawemasjid.org/wp-content/uploads/2024/09/WhatsApp-Image-2024-09-15-at-17.13.48.webp
ORGANIZER;CN="WMA Team":MAILTO:office@wythenshawemasjid.org
END:VEVENT
BEGIN:VEVENT
DTSTART;TZID=Europe/London:20240918T110000
DTEND;TZID=Europe/London:20240918T120000
DTSTAMP:20260426T034619
CREATED:20240915T163243Z
LAST-MODIFIED:20240915T163244Z
UID:10002014-1726657200-1726660800@wythenshawemasjid.org
SUMMARY:Ladies Fitness Class
DESCRIPTION:💪 Six fitness classes led by a qualified instructor. \n✨ “There are two blessings which many people waste: health and free time.” Al-Bukhari \n🎟️ Fee: £18 per person (this one-off fee provides access to all six classes) \n🚺 Ladies aged 18+ \n🏃‍♀️Medium level of fitness required – Equipment provided \n📅 Started Wednesday 11th September \n🕒 Wednesdays 11:00-11:45 \n❕Limited spaces\, registration required
URL:https://wythenshawemasjid.org/events-activities/ladies-fitness-class-7-2/
LOCATION:Wythenshawe Masjid\, 7 Moor End\, Wythenshawe\, M22 4JQ\, United Kingdom
CATEGORIES:Sisters Event
ATTACH;FMTTYPE=image/webp:https://wythenshawemasjid.org/wp-content/uploads/2024/08/IMG_4586.webp
ORGANIZER;CN="WMA Team":MAILTO:office@wythenshawemasjid.org
END:VEVENT
BEGIN:VEVENT
DTSTART;TZID=Europe/London:20240911T110000
DTEND;TZID=Europe/London:20240911T120000
DTSTAMP:20260426T034619
CREATED:20240827T210047Z
LAST-MODIFIED:20240911T152613Z
UID:10002012-1726052400-1726056000@wythenshawemasjid.org
SUMMARY:Ladies Fitness Class
DESCRIPTION:💪 Six fitness classes led by a qualified instructor. \n✨ “There are two blessings which many people waste: health and free time.” Al-Bukhari \n🎟️ Fee: £18 per person (this one-off fee provides access to all six classes) \n🚺 Ladies aged 18+ \n🏃‍♀️Medium level of fitness required – Equipment provided \n📅 Starting Wednesday 11th September \n🕒 Wednesdays 11:00-11:45 \n❕Limited spaces\, registration required
URL:https://wythenshawemasjid.org/events-activities/ladies-fitness-class-6/
LOCATION:Wythenshawe Masjid\, 7 Moor End\, Wythenshawe\, M22 4JQ\, United Kingdom
CATEGORIES:Sisters Event
ATTACH;FMTTYPE=image/webp:https://wythenshawemasjid.org/wp-content/uploads/2024/08/IMG_4586.webp
ORGANIZER;CN="WMA Team":MAILTO:office@wythenshawemasjid.org
END:VEVENT
BEGIN:VEVENT
DTSTART;TZID=Europe/London:20240830T103000
DTEND;TZID=Europe/London:20240830T121500
DTSTAMP:20260426T034619
CREATED:20240807T120059Z
LAST-MODIFIED:20240807T174251Z
UID:10001959-1725013800-1725020100@wythenshawemasjid.org
SUMMARY:Summer Kids’ Club
DESCRIPTION:Wythenshawe Masjid presents… \n☀️ Summer Kids’ Club ☀️ \n✨ A wide range of activities for children to have fun and learn\, including:\n•⁠ ⁠Quran Recitation\n•⁠ ⁠Adhkar Memorisation\n•⁠ ⁠99 Names of Allah\n•⁠ ⁠Arts & Craft\n•⁠ ⁠And much more! \n📅 Monday 26th – Friday 30th August \n🕒 10:30 – 12:15 \n🚹 Boys aged 7-9\n🚺 Girls aged 7-12 \nJazakum Allahu Khayr \nWythenshawe Masjid
URL:https://wythenshawemasjid.org/events-activities/summer-kids-club-3/2024-08-30/
LOCATION:Wythenshawe Masjid\, 7 Moor End\, Wythenshawe\, M22 4JQ\, United Kingdom
CATEGORIES:Religious Event,Sisters Event,Young Brothers
ORGANIZER;CN="WMA Team":MAILTO:office@wythenshawemasjid.org
END:VEVENT
BEGIN:VEVENT
DTSTART;TZID=Europe/London:20240829T103000
DTEND;TZID=Europe/London:20240829T121500
DTSTAMP:20260426T034619
CREATED:20240807T120059Z
LAST-MODIFIED:20240807T174251Z
UID:10001958-1724927400-1724933700@wythenshawemasjid.org
SUMMARY:Summer Kids’ Club
DESCRIPTION:Wythenshawe Masjid presents… \n☀️ Summer Kids’ Club ☀️ \n✨ A wide range of activities for children to have fun and learn\, including:\n•⁠ ⁠Quran Recitation\n•⁠ ⁠Adhkar Memorisation\n•⁠ ⁠99 Names of Allah\n•⁠ ⁠Arts & Craft\n•⁠ ⁠And much more! \n📅 Monday 26th – Friday 30th August \n🕒 10:30 – 12:15 \n🚹 Boys aged 7-9\n🚺 Girls aged 7-12 \nJazakum Allahu Khayr \nWythenshawe Masjid
URL:https://wythenshawemasjid.org/events-activities/summer-kids-club-3/2024-08-29/
LOCATION:Wythenshawe Masjid\, 7 Moor End\, Wythenshawe\, M22 4JQ\, United Kingdom
CATEGORIES:Religious Event,Sisters Event,Young Brothers
ORGANIZER;CN="WMA Team":MAILTO:office@wythenshawemasjid.org
END:VEVENT
BEGIN:VEVENT
DTSTART;TZID=Europe/London:20240828T103000
DTEND;TZID=Europe/London:20240828T121500
DTSTAMP:20260426T034619
CREATED:20240807T120059Z
LAST-MODIFIED:20240807T174251Z
UID:10001957-1724841000-1724847300@wythenshawemasjid.org
SUMMARY:Summer Kids’ Club
DESCRIPTION:Wythenshawe Masjid presents… \n☀️ Summer Kids’ Club ☀️ \n✨ A wide range of activities for children to have fun and learn\, including:\n•⁠ ⁠Quran Recitation\n•⁠ ⁠Adhkar Memorisation\n•⁠ ⁠99 Names of Allah\n•⁠ ⁠Arts & Craft\n•⁠ ⁠And much more! \n📅 Monday 26th – Friday 30th August \n🕒 10:30 – 12:15 \n🚹 Boys aged 7-9\n🚺 Girls aged 7-12 \nJazakum Allahu Khayr \nWythenshawe Masjid
URL:https://wythenshawemasjid.org/events-activities/summer-kids-club-3/2024-08-28/
LOCATION:Wythenshawe Masjid\, 7 Moor End\, Wythenshawe\, M22 4JQ\, United Kingdom
CATEGORIES:Religious Event,Sisters Event,Young Brothers
ORGANIZER;CN="WMA Team":MAILTO:office@wythenshawemasjid.org
END:VEVENT
BEGIN:VEVENT
DTSTART;TZID=Europe/London:20240827T103000
DTEND;TZID=Europe/London:20240827T121500
DTSTAMP:20260426T034619
CREATED:20240807T120059Z
LAST-MODIFIED:20240807T174251Z
UID:10001956-1724754600-1724760900@wythenshawemasjid.org
SUMMARY:Summer Kids’ Club
DESCRIPTION:Wythenshawe Masjid presents… \n☀️ Summer Kids’ Club ☀️ \n✨ A wide range of activities for children to have fun and learn\, including:\n•⁠ ⁠Quran Recitation\n•⁠ ⁠Adhkar Memorisation\n•⁠ ⁠99 Names of Allah\n•⁠ ⁠Arts & Craft\n•⁠ ⁠And much more! \n📅 Monday 26th – Friday 30th August \n🕒 10:30 – 12:15 \n🚹 Boys aged 7-9\n🚺 Girls aged 7-12 \nJazakum Allahu Khayr \nWythenshawe Masjid
URL:https://wythenshawemasjid.org/events-activities/summer-kids-club-3/2024-08-27/
LOCATION:Wythenshawe Masjid\, 7 Moor End\, Wythenshawe\, M22 4JQ\, United Kingdom
CATEGORIES:Religious Event,Sisters Event,Young Brothers
ORGANIZER;CN="WMA Team":MAILTO:office@wythenshawemasjid.org
END:VEVENT
BEGIN:VEVENT
DTSTART;TZID=Europe/London:20240826T182000
DTEND;TZID=Europe/London:20240826T193000
DTSTAMP:20260426T034619
CREATED:20240804T201244Z
LAST-MODIFIED:20240804T201245Z
UID:10001985-1724696400-1724700600@wythenshawemasjid.org
SUMMARY:Hifdh & Tilawah for Ladies
DESCRIPTION:✨ Hifdh & Tilawah for Ladies \n📚 Improve your recitation and develop your memorisation programme \n📅 Starting Monday 5th August \n🕒 Every Monday after Asr \n🚺 Sisters aged 18 and above \n❕ To register\, please email office@wythenshawemasjid.org \n 
URL:https://wythenshawemasjid.org/events-activities/hifdh-tilawah-for-ladies-5/
LOCATION:Wythenshawe Masjid\, 7 Moor End\, Wythenshawe\, M22 4JQ\, United Kingdom
CATEGORIES:Religious Event,Sisters Event
ATTACH;FMTTYPE=image/webp:https://wythenshawemasjid.org/wp-content/uploads/2024/08/Ladies-Quran-Class-August-2024.png.webp
ORGANIZER;CN="WMA Team":MAILTO:office@wythenshawemasjid.org
END:VEVENT
BEGIN:VEVENT
DTSTART;TZID=Europe/London:20240819T183000
DTEND;TZID=Europe/London:20240819T194500
DTSTAMP:20260426T034619
CREATED:20240804T200416Z
LAST-MODIFIED:20240804T201142Z
UID:10001984-1724092200-1724096700@wythenshawemasjid.org
SUMMARY:Hifdh & Tilawah for Ladies
DESCRIPTION:✨ Hifdh & Tilawah for Ladies \n📚 Improve your recitation and develop your memorisation programme \n📅 Starting Monday 5th August \n🕒 Every Monday after Asr \n🚺 Sisters aged 18 and above \n❕ To register\, please email office@wythenshawemasjid.org \n 
URL:https://wythenshawemasjid.org/events-activities/hifdh-tilawah-for-ladies-3/
LOCATION:Wythenshawe Masjid\, 7 Moor End\, Wythenshawe\, M22 4JQ\, United Kingdom
CATEGORIES:Religious Event,Sisters Event
ATTACH;FMTTYPE=image/webp:https://wythenshawemasjid.org/wp-content/uploads/2024/08/Ladies-Quran-Class-August-2024.png.webp
ORGANIZER;CN="WMA Team":MAILTO:office@wythenshawemasjid.org
END:VEVENT
BEGIN:VEVENT
DTSTART;TZID=Europe/London:20240812T184000
DTEND;TZID=Europe/London:20240812T200000
DTSTAMP:20260426T034619
CREATED:20240804T200050Z
LAST-MODIFIED:20240804T201000Z
UID:10001983-1723488000-1723492800@wythenshawemasjid.org
SUMMARY:Hifdh & Tilawah for Ladies
DESCRIPTION:✨ Hifdh & Tilawah for Ladies \n📚 Improve your recitation and develop your memorisation programme \n🕒 Every Monday after Asr \n🚺 Sisters aged 18 and above \n❕ To register\, please email office@wythenshawemasjid.org \n 
URL:https://wythenshawemasjid.org/events-activities/hifdh-tilawah-for-ladies-2/
LOCATION:Wythenshawe Masjid\, 7 Moor End\, Wythenshawe\, M22 4JQ\, United Kingdom
CATEGORIES:Religious Event,Sisters Event
ATTACH;FMTTYPE=image/webp:https://wythenshawemasjid.org/wp-content/uploads/2024/08/Ladies-Quran-Class-August-2024.png.webp
ORGANIZER;CN="WMA Team":MAILTO:office@wythenshawemasjid.org
END:VEVENT
BEGIN:VEVENT
DTSTART;TZID=Europe/London:20240805T185000
DTEND;TZID=Europe/London:20240805T201500
DTSTAMP:20260426T034619
CREATED:20240804T200823Z
LAST-MODIFIED:20240804T200824Z
UID:10001982-1722883800-1722888900@wythenshawemasjid.org
SUMMARY:Hifdh & Tilawah for Ladies
DESCRIPTION:✨ Hifdh & Tilawah for Ladies \n📚 Improve your recitation and develop your memorisation programme \n📅 Starting Monday 5th August \n🕒 Every Monday after Asr \n🚺 Sisters aged 18 and above \n❕ To register\, please email office@wythenshawemasjid.org \n 
URL:https://wythenshawemasjid.org/events-activities/hifdh-tilawah-for-ladies-4/
LOCATION:Wythenshawe Masjid\, 7 Moor End\, Wythenshawe\, M22 4JQ\, United Kingdom
CATEGORIES:Religious Event,Sisters Event
ATTACH;FMTTYPE=image/webp:https://wythenshawemasjid.org/wp-content/uploads/2024/08/Ladies-Quran-Class-August-2024.png.webp
ORGANIZER;CN="WMA Team":MAILTO:office@wythenshawemasjid.org
END:VEVENT
BEGIN:VEVENT
DTSTART;TZID=Europe/London:20240717T110000
DTEND;TZID=Europe/London:20240717T120000
DTSTAMP:20260426T034619
CREATED:20240717T143724Z
LAST-MODIFIED:20240717T143724Z
UID:10001911-1721214000-1721217600@wythenshawemasjid.org
SUMMARY:Ladies Fitness Class
DESCRIPTION:💪 Six fitness classes led by a qualified instructor. \n✨ “There are two blessings which many people waste: health and free time.” Al-Bukhari \n🎟️ Fee: £18 per person (this one-off fee provides access to all six classes) \n🚺 Ladies aged 18+ \n🏃‍♀️Medium level of fitness required – Equipment provided \n📅 Starting Wednesday 5th June \n🕒 Wednesdays 11:00-11:45 \n❕Limited spaces\, registration required \n⚠️ Please note: the sessions will run from 5th June to 17th July but there will be no class on Wednesday 19th June due to Eid.
URL:https://wythenshawemasjid.org/events-activities/ladies-fitness-class-5/2024-07-17/
LOCATION:Wythenshawe Masjid\, 7 Moor End\, Wythenshawe\, M22 4JQ\, United Kingdom
CATEGORIES:Sisters Event
ATTACH;FMTTYPE=image/webp:https://wythenshawemasjid.org/wp-content/uploads/2024/05/ladies-fitness.webp
ORGANIZER;CN="WMA Team":MAILTO:office@wythenshawemasjid.org
END:VEVENT
BEGIN:VEVENT
DTSTART;TZID=Europe/London:20240710T110000
DTEND;TZID=Europe/London:20240710T120000
DTSTAMP:20260426T034619
CREATED:20240717T143724Z
LAST-MODIFIED:20240717T143724Z
UID:10001910-1720609200-1720612800@wythenshawemasjid.org
SUMMARY:Ladies Fitness Class
DESCRIPTION:💪 Six fitness classes led by a qualified instructor. \n✨ “There are two blessings which many people waste: health and free time.” Al-Bukhari \n🎟️ Fee: £18 per person (this one-off fee provides access to all six classes) \n🚺 Ladies aged 18+ \n🏃‍♀️Medium level of fitness required – Equipment provided \n📅 Starting Wednesday 5th June \n🕒 Wednesdays 11:00-11:45 \n❕Limited spaces\, registration required \n⚠️ Please note: the sessions will run from 5th June to 17th July but there will be no class on Wednesday 19th June due to Eid.
URL:https://wythenshawemasjid.org/events-activities/ladies-fitness-class-5/2024-07-10/
LOCATION:Wythenshawe Masjid\, 7 Moor End\, Wythenshawe\, M22 4JQ\, United Kingdom
CATEGORIES:Sisters Event
ATTACH;FMTTYPE=image/webp:https://wythenshawemasjid.org/wp-content/uploads/2024/05/ladies-fitness.webp
ORGANIZER;CN="WMA Team":MAILTO:office@wythenshawemasjid.org
END:VEVENT
BEGIN:VEVENT
DTSTART;TZID=Europe/London:20240703T110000
DTEND;TZID=Europe/London:20240703T120000
DTSTAMP:20260426T034619
CREATED:20240717T143724Z
LAST-MODIFIED:20240717T143724Z
UID:10001909-1720004400-1720008000@wythenshawemasjid.org
SUMMARY:Ladies Fitness Class
DESCRIPTION:💪 Six fitness classes led by a qualified instructor. \n✨ “There are two blessings which many people waste: health and free time.” Al-Bukhari \n🎟️ Fee: £18 per person (this one-off fee provides access to all six classes) \n🚺 Ladies aged 18+ \n🏃‍♀️Medium level of fitness required – Equipment provided \n📅 Starting Wednesday 5th June \n🕒 Wednesdays 11:00-11:45 \n❕Limited spaces\, registration required \n⚠️ Please note: the sessions will run from 5th June to 17th July but there will be no class on Wednesday 19th June due to Eid.
URL:https://wythenshawemasjid.org/events-activities/ladies-fitness-class-5/2024-07-03/
LOCATION:Wythenshawe Masjid\, 7 Moor End\, Wythenshawe\, M22 4JQ\, United Kingdom
CATEGORIES:Sisters Event
ATTACH;FMTTYPE=image/webp:https://wythenshawemasjid.org/wp-content/uploads/2024/05/ladies-fitness.webp
ORGANIZER;CN="WMA Team":MAILTO:office@wythenshawemasjid.org
END:VEVENT
BEGIN:VEVENT
DTSTART;TZID=Europe/London:20240626T110000
DTEND;TZID=Europe/London:20240626T120000
DTSTAMP:20260426T034619
CREATED:20240717T143724Z
LAST-MODIFIED:20240717T143724Z
UID:10001908-1719399600-1719403200@wythenshawemasjid.org
SUMMARY:Ladies Fitness Class
DESCRIPTION:💪 Six fitness classes led by a qualified instructor. \n✨ “There are two blessings which many people waste: health and free time.” Al-Bukhari \n🎟️ Fee: £18 per person (this one-off fee provides access to all six classes) \n🚺 Ladies aged 18+ \n🏃‍♀️Medium level of fitness required – Equipment provided \n📅 Starting Wednesday 5th June \n🕒 Wednesdays 11:00-11:45 \n❕Limited spaces\, registration required \n⚠️ Please note: the sessions will run from 5th June to 17th July but there will be no class on Wednesday 19th June due to Eid.
URL:https://wythenshawemasjid.org/events-activities/ladies-fitness-class-5/2024-06-26/
LOCATION:Wythenshawe Masjid\, 7 Moor End\, Wythenshawe\, M22 4JQ\, United Kingdom
CATEGORIES:Sisters Event
ATTACH;FMTTYPE=image/webp:https://wythenshawemasjid.org/wp-content/uploads/2024/05/ladies-fitness.webp
ORGANIZER;CN="WMA Team":MAILTO:office@wythenshawemasjid.org
END:VEVENT
BEGIN:VEVENT
DTSTART;TZID=Europe/London:20240619T110000
DTEND;TZID=Europe/London:20240619T120000
DTSTAMP:20260426T034619
CREATED:20240717T143724Z
LAST-MODIFIED:20240717T143724Z
UID:10001907-1718794800-1718798400@wythenshawemasjid.org
SUMMARY:Ladies Fitness Class
DESCRIPTION:💪 Six fitness classes led by a qualified instructor. \n✨ “There are two blessings which many people waste: health and free time.” Al-Bukhari \n🎟️ Fee: £18 per person (this one-off fee provides access to all six classes) \n🚺 Ladies aged 18+ \n🏃‍♀️Medium level of fitness required – Equipment provided \n📅 Starting Wednesday 5th June \n🕒 Wednesdays 11:00-11:45 \n❕Limited spaces\, registration required \n⚠️ Please note: the sessions will run from 5th June to 17th July but there will be no class on Wednesday 19th June due to Eid.
URL:https://wythenshawemasjid.org/events-activities/ladies-fitness-class-5/2024-06-19/
LOCATION:Wythenshawe Masjid\, 7 Moor End\, Wythenshawe\, M22 4JQ\, United Kingdom
CATEGORIES:Sisters Event
ATTACH;FMTTYPE=image/webp:https://wythenshawemasjid.org/wp-content/uploads/2024/05/ladies-fitness.webp
ORGANIZER;CN="WMA Team":MAILTO:office@wythenshawemasjid.org
END:VEVENT
BEGIN:VEVENT
DTSTART;TZID=Europe/London:20240612T110000
DTEND;TZID=Europe/London:20240612T120000
DTSTAMP:20260426T034619
CREATED:20240717T143724Z
LAST-MODIFIED:20240717T143724Z
UID:10001906-1718190000-1718193600@wythenshawemasjid.org
SUMMARY:Ladies Fitness Class
DESCRIPTION:💪 Six fitness classes led by a qualified instructor. \n✨ “There are two blessings which many people waste: health and free time.” Al-Bukhari \n🎟️ Fee: £18 per person (this one-off fee provides access to all six classes) \n🚺 Ladies aged 18+ \n🏃‍♀️Medium level of fitness required – Equipment provided \n📅 Starting Wednesday 5th June \n🕒 Wednesdays 11:00-11:45 \n❕Limited spaces\, registration required \n⚠️ Please note: the sessions will run from 5th June to 17th July but there will be no class on Wednesday 19th June due to Eid.
URL:https://wythenshawemasjid.org/events-activities/ladies-fitness-class-5/2024-06-12/
LOCATION:Wythenshawe Masjid\, 7 Moor End\, Wythenshawe\, M22 4JQ\, United Kingdom
CATEGORIES:Sisters Event
ATTACH;FMTTYPE=image/webp:https://wythenshawemasjid.org/wp-content/uploads/2024/05/ladies-fitness.webp
ORGANIZER;CN="WMA Team":MAILTO:office@wythenshawemasjid.org
END:VEVENT
BEGIN:VEVENT
DTSTART;TZID=Europe/London:20240605T110000
DTEND;TZID=Europe/London:20240605T120000
DTSTAMP:20260426T034619
CREATED:20240530T144132Z
LAST-MODIFIED:20240531T110416Z
UID:10001872-1717585200-1717588800@wythenshawemasjid.org
SUMMARY:Ladies Fitness Class
DESCRIPTION:💪 Six fitness classes led by a qualified instructor. \n✨ “There are two blessings which many people waste: health and free time.” Al-Bukhari \n🎟️ Fee: £18 per person (this one-off fee provides access to all six classes) \n🚺 Ladies aged 18+ \n🏃‍♀️Medium level of fitness required – Equipment provided \n📅 Starting Wednesday 5th June \n🕒 Wednesdays 11:00-11:45 \n❕Limited spaces\, registration required \n⚠️ Please note: the sessions will run from 5th June to 17th July but there will be no class on Wednesday 19th June due to Eid.
URL:https://wythenshawemasjid.org/events-activities/wma-ladies-fitness-class/
LOCATION:Wythenshawe Masjid\, 7 Moor End\, Wythenshawe\, M22 4JQ\, United Kingdom
CATEGORIES:Sisters Event
ATTACH;FMTTYPE=image/webp:https://wythenshawemasjid.org/wp-content/uploads/2024/05/ladies-fitness.webp
ORGANIZER;CN="WMA Team":MAILTO:office@wythenshawemasjid.org
END:VEVENT
BEGIN:VEVENT
DTSTART;TZID=Europe/London:20240508T073000
DTEND;TZID=Europe/London:20240508T210000
DTSTAMP:20260426T034619
CREATED:20240519T230950Z
LAST-MODIFIED:20240519T230950Z
UID:10001720-1715153400-1715202000@wythenshawemasjid.org
SUMMARY:Ladies’ Coffee Evening
DESCRIPTION:Ladies’ Coffee Evening at Wythenshawe Masjid \n☕️ A great way to socialise and get to know other women while enjoying a hot drink and tasty treat \n📲 Please share this message with other ladies from the area who may wish to attend \n 
URL:https://wythenshawemasjid.org/events-activities/ladies-coffee-evening/
LOCATION:Wythenshawe Masjid\, 7 Moor End\, Wythenshawe\, M22 4JQ\, United Kingdom
CATEGORIES:Sisters Event
ATTACH;FMTTYPE=image/webp:https://wythenshawemasjid.org/wp-content/uploads/2024/05/WhatsApp-Image-2024-05-07-at-14.03.47.webp
ORGANIZER;CN="WMA Team":MAILTO:office@wythenshawemasjid.org
END:VEVENT
BEGIN:VEVENT
DTSTART;TZID=Europe/London:20240424T110000
DTEND;TZID=Europe/London:20240424T114500
DTSTAMP:20260426T034619
CREATED:20240519T234900Z
LAST-MODIFIED:20240717T143431Z
UID:10001735-1713956400-1713959100@wythenshawemasjid.org
SUMMARY:Ladies’ Fitness Class
DESCRIPTION:💪 Six fitness classes led by a qualified instructor. \n✨ “There are two blessings which many people waste: health and free time.” Al-Bukhari \n🎟️ Fee: £18 per person (this one-off fee provides access to all six classes) \n🚺 Ladies aged 18+ \n🏃‍♀️Medium level of fitness required – Equipment provided \n📅 Starting Wednesday 5th June \n🕒 Wednesdays 11:00-11:45 \n❕Limited spaces\, registration required \n⚠️ Please note: the sessions will run from 5th June to 17th July but there will be no class on Wednesday 19th June due to Eid. \n 
URL:https://wythenshawemasjid.org/events-activities/ladies-fitness-class-4/
LOCATION:Wythenshawe Masjid\, 7 Moor End\, Wythenshawe\, M22 4JQ\, United Kingdom
CATEGORIES:Sisters Event
ATTACH;FMTTYPE=image/webp:https://wythenshawemasjid.org/wp-content/uploads/2024/05/WhatsApp-Image-2024-05-31-at-11.57.22.webp
ORGANIZER;CN="WMA Team":MAILTO:office@wythenshawemasjid.org
END:VEVENT
BEGIN:VEVENT
DTSTART;TZID=Europe/London:20240110T110000
DTEND;TZID=Europe/London:20240110T120000
DTSTAMP:20260426T034619
CREATED:20240106T233940Z
LAST-MODIFIED:20240220T144033Z
UID:10001552-1704884400-1704888000@wythenshawemasjid.org
SUMMARY:Ladies Fitness Class
DESCRIPTION:Six fitness classes led by a qualified instructor. \n“There are two blessings which many people waste: health and free time.” Al-Bukhari \n\nLadies aged 18+\nExercise equipment will be provided\nMedium level of fitness required\nClass time is 11am to 11:45.\n\nThe fee of £20 per person provides access to all six classes. \n 
URL:https://wythenshawemasjid.org/events-activities/ladies-fitness-class-3/
LOCATION:Wythenshawe Masjid\, 7 Moor End\, Wythenshawe\, M22 4JQ\, United Kingdom
CATEGORIES:Sisters Event
ATTACH;FMTTYPE=image/webp:https://wythenshawemasjid.org/wp-content/uploads/2024/01/Ladies-Fitness.webp
ORGANIZER;CN="WMA Team":MAILTO:office@wythenshawemasjid.org
END:VEVENT
BEGIN:VEVENT
DTSTART;TZID=Europe/London:20240109T130000
DTEND;TZID=Europe/London:20240109T143000
DTSTAMP:20260426T034619
CREATED:20240106T234833Z
LAST-MODIFIED:20240220T144057Z
UID:10001553-1704805200-1704810600@wythenshawemasjid.org
SUMMARY:Halaqat Ath-Thulatha
DESCRIPTION:A six-week course to help correct your recitation and improve your memorisation of Juz Amma. \n🕒 Tuesdays 13:00-14:30 (Jan 9th to Feb 13th) \n🚺 Sisters aged 18+ \n🎟️ £15 fee for access to all six classes
URL:https://wythenshawemasjid.org/events-activities/halaqat-ath-thulatha-2/
LOCATION:Wythenshawe Masjid\, 7 Moor End\, Wythenshawe\, M22 4JQ\, United Kingdom
CATEGORIES:Brothers Events,Religious Event,Sisters Event
ATTACH;FMTTYPE=image/webp:https://wythenshawemasjid.org/wp-content/uploads/2024/01/Halaqat.webp
ORGANIZER;CN="WMA Team":MAILTO:office@wythenshawemasjid.org
END:VEVENT
BEGIN:VEVENT
DTSTART;TZID=Europe/London:20231101T110000
DTEND;TZID=Europe/London:20231101T120000
DTSTAMP:20260426T034619
CREATED:20231025T173752Z
LAST-MODIFIED:20240220T143704Z
UID:10001048-1698836400-1698840000@wythenshawemasjid.org
SUMMARY:Ladies Fitness Class
DESCRIPTION:Six fitness classes led by a qualified instructor. \n“There are two blessings which many people waste: health and free time.” Al-Bukhari \n\nLadies aged 18+\nExercise equipment will be provided\nMedium level of fitness required\nClass time is 11am to 11:45.\n\nThe fee of £20 per person provides access to all six classes. \n 
URL:https://wythenshawemasjid.org/events-activities/ladies-fitness-class-2/
LOCATION:Wythenshawe Masjid\, 7 Moor End\, Wythenshawe\, M22 4JQ\, United Kingdom
CATEGORIES:Sisters Event
ATTACH;FMTTYPE=image/webp:https://wythenshawemasjid.org/wp-content/uploads/2023/10/WMA-Fitness2-scaled.webp
ORGANIZER;CN="WMA Team":MAILTO:office@wythenshawemasjid.org
END:VEVENT
BEGIN:VEVENT
DTSTART;TZID=Europe/London:20230930T140000
DTEND;TZID=Europe/London:20230930T160000
DTSTAMP:20260426T034619
CREATED:20230914T184254Z
LAST-MODIFIED:20240220T151325Z
UID:10000985-1696082400-1696089600@wythenshawemasjid.org
SUMMARY:Lifesavers Course
DESCRIPTION:Through the power of unity on a single day of action\, every year\, thousands of members of the public are taught Basic Life Support skills in Mosques around the UK & internationally. \nHistory \nLifesavers started in 2014 as the ‘BLS Mosque Project’\, teaching life-saving skills in three Mosques in London. By the Mercy of Allah\, the project has expanded each consecutive year – being taught in Masjids up and down the country \nThe Programme \nThe BIMA Lifesavers programme follows the BHF Heartstart programme teaching: \n\nCPR\,\nRecovery Position\,\nManagement of choking.\n\nEach of these skills are taught in a three-step method: \n\nA thorough explanation of the theory at the beginning\,\nA practical demonstration\,\nA chance for participants to practice and perfect their technique.\n\nThe course is delivered over a 1 hour session. \nPlease book 1 ticket per person. \n 
URL:https://wythenshawemasjid.org/events-activities/lifesavers-course/
LOCATION:Wythenshawe Masjid\, 7 Moor End\, Wythenshawe\, M22 4JQ\, United Kingdom
CATEGORIES:Brothers Events,Sisters Event
ORGANIZER;CN="WMA Team":MAILTO:office@wythenshawemasjid.org
END:VEVENT
BEGIN:VEVENT
DTSTART;TZID=Europe/London:20230913T110000
DTEND;TZID=Europe/London:20230913T120000
DTSTAMP:20260426T034619
CREATED:20230830T102214Z
LAST-MODIFIED:20240220T151425Z
UID:10000905-1694602800-1694606400@wythenshawemasjid.org
SUMMARY:Ladies Fitness Class
DESCRIPTION:Six fitness classes led by a qualified instructor. \n“There are two blessings which many people waste: health and free time.” Al-Bukhari \n\nLadies aged 18+\nExercise equipment will be provided\nMedium level of fitness required\nClass time is 11am to 11:45.\n\nThe fee of £20 per person provides access to all six classes. \n 
URL:https://wythenshawemasjid.org/events-activities/ladies-fitness-class/
LOCATION:Wythenshawe Masjid\, 7 Moor End\, Wythenshawe\, M22 4JQ\, United Kingdom
CATEGORIES:Sisters Event
ORGANIZER;CN="WMA Team":MAILTO:office@wythenshawemasjid.org
END:VEVENT
BEGIN:VEVENT
DTSTART;VALUE=DATE:20230806
DTEND;VALUE=DATE:20230807
DTSTAMP:20260426T034619
CREATED:20230705T120007Z
LAST-MODIFIED:20240220T151633Z
UID:10000850-1691280000-1691366399@wythenshawemasjid.org
SUMMARY:Snowdonia Climb
DESCRIPTION:Climb Mount Snowdon and Fundraise for Wythenshawe \nRegistration fee: £20\nMinimum Fundraising Target: £300\nMeeting Point: Snowdon Mountain Railway Car Park\nBrothers & Sisters\nAges 18 and above\nLimited spaces please register to participate.
URL:https://wythenshawemasjid.org/events-activities/snowdonia-climb/
LOCATION:Wythenshawe Masjid\, 7 Moor End\, Wythenshawe\, M22 4JQ\, United Kingdom
CATEGORIES:Brothers Events,Sisters Event
ATTACH;FMTTYPE=image/jpeg:https://wythenshawemasjid.org/wp-content/uploads/2023/07/9e91bc63-ab02-4a60-bf22-d0aac4ea2de4.jpeg
ORGANIZER;CN="WMA Team":MAILTO:office@wythenshawemasjid.org
END:VEVENT
BEGIN:VEVENT
DTSTART;TZID=Europe/London:20230319T120000
DTEND;TZID=Europe/London:20230319T133000
DTSTAMP:20260426T034619
CREATED:20230315T190228Z
LAST-MODIFIED:20240220T145224Z
UID:10000671-1679227200-1679232600@wythenshawemasjid.org
SUMMARY:Sisters Beginner’s Tajweed
DESCRIPTION:Beginner’s Tajweed for Sisters. \nA 5-week Ramadan course\, taking place every Sunday 12-1:30pm in Wythenshawe Masjid \nRequirement for attendance: ability to read Arabic. \nMax. 15 spaces. Registration required.
URL:https://wythenshawemasjid.org/events-activities/sisters-beginners-tajweed/
LOCATION:Wythenshawe Masjid\, 7 Moor End\, Wythenshawe\, M22 4JQ\, United Kingdom
CATEGORIES:Sisters Event
ATTACH;FMTTYPE=image/jpeg:https://wythenshawemasjid.org/wp-content/uploads/2023/03/WMA-sisters-Tajweed.jpeg
ORGANIZER;CN="WMA Team":MAILTO:office@wythenshawemasjid.org
END:VEVENT
BEGIN:VEVENT
DTSTART;TZID=Europe/London:20220715T200000
DTEND;TZID=Europe/London:20220715T220000
DTSTAMP:20260426T034619
CREATED:20220706T142349Z
LAST-MODIFIED:20240220T145102Z
UID:10000375-1657915200-1657922400@wythenshawemasjid.org
SUMMARY:Eid ul Adha Celebration
DESCRIPTION:An Eid celebration bringing together families\, friends and the community to enjoy a great Friday night insha’Allah. \nWith: \n\nFine food\nHenna designs\nFace painting\nBalloon modelling\nHalal comedy \nand the legendary Quiz!\n\nJoin us for a memorable night!
URL:https://wythenshawemasjid.org/events-activities/eid-ul-adha-celebration/
CATEGORIES:Brothers Events,Family,Sisters Event
ATTACH;FMTTYPE=image/jpeg:https://wythenshawemasjid.org/wp-content/uploads/2022/07/WMA-Eid-2022.jpeg
ORGANIZER;CN="WMA Team":MAILTO:office@wythenshawemasjid.org
END:VEVENT
END:VCALENDAR