BEGIN:VCALENDAR
VERSION:2.0
PRODID:-//Wythenshawe Masjid - ECPv6.14.2//NONSGML v1.0//EN
CALSCALE:GREGORIAN
METHOD:PUBLISH
X-WR-CALNAME:Wythenshawe Masjid
X-ORIGINAL-URL:https://wythenshawemasjid.org
X-WR-CALDESC:Events for Wythenshawe Masjid
REFRESH-INTERVAL;VALUE=DURATION:PT1H
X-Robots-Tag:noindex
X-PUBLISHED-TTL:PT1H
BEGIN:VTIMEZONE
TZID:Europe/London
BEGIN:DAYLIGHT
TZOFFSETFROM:+0000
TZOFFSETTO:+0100
TZNAME:BST
DTSTART:20250330T010000
END:DAYLIGHT
BEGIN:STANDARD
TZOFFSETFROM:+0100
TZOFFSETTO:+0000
TZNAME:GMT
DTSTART:20251026T010000
END:STANDARD
END:VTIMEZONE
BEGIN:VEVENT
DTSTART;TZID=Europe/London:20250929T183000
DTEND;TZID=Europe/London:20250929T200000
DTSTAMP:20260426T041530
CREATED:20250911T120213Z
LAST-MODIFIED:20251108T132019Z
UID:10003059-1759170600-1759176000@wythenshawemasjid.org
SUMMARY:Hifdh Programme
DESCRIPTION:Wythenshawe Masjid’s Hifdh Programme \nFor brothers and sisters above the age of 10 who can confidently read the Qur’an and are ready to memorise (male and female teachers present). \nEvery week on Monday and Wednesday\, starting Monday 29th September \n6:30pm to 8:00pm \n£30/term (first term paid upfront)\nStudents must be fluent in reading the Quran and committed to regularly attending. \nDeadline to register: Wed 24th Sept
URL:https://wythenshawemasjid.org/events-activities/hifdh-programme/
CATEGORIES:Brothers Events,Sisters Event
ATTACH;FMTTYPE=image/jpeg:https://wythenshawemasjid.org/wp-content/uploads/2025/09/8e49487b-01e5-47f9-8ead-534f187c8501.jpg
END:VEVENT
END:VCALENDAR