BEGIN:VCALENDAR
VERSION:2.0
PRODID:-//Wythenshawe Masjid - ECPv6.14.2//NONSGML v1.0//EN
CALSCALE:GREGORIAN
METHOD:PUBLISH
X-WR-CALNAME:Wythenshawe Masjid
X-ORIGINAL-URL:https://wythenshawemasjid.org
X-WR-CALDESC:Events for Wythenshawe Masjid
REFRESH-INTERVAL;VALUE=DURATION:PT1H
X-Robots-Tag:noindex
X-PUBLISHED-TTL:PT1H
BEGIN:VTIMEZONE
TZID:Europe/London
BEGIN:DAYLIGHT
TZOFFSETFROM:+0000
TZOFFSETTO:+0100
TZNAME:BST
DTSTART:20240331T010000
END:DAYLIGHT
BEGIN:STANDARD
TZOFFSETFROM:+0100
TZOFFSETTO:+0000
TZNAME:GMT
DTSTART:20241027T010000
END:STANDARD
END:VTIMEZONE
BEGIN:VEVENT
DTSTART;TZID=Europe/London:20241006T190000
DTEND;TZID=Europe/London:20241006T203000
DTSTAMP:20260426T040820
CREATED:20240915T161850Z
LAST-MODIFIED:20241012T205949Z
UID:10002087-1728241200-1728246600@wythenshawemasjid.org
SUMMARY:Tafseer with Imam Abu Zaid
DESCRIPTION:Tafseer with Imam Abu Zaid \n✨A four-week course exploring short surahs from the Qur’an \n📖 Topics will include:\n•⁠ ⁠Manners\n•⁠ ⁠Faith\n•⁠ ⁠Tawheed\n•⁠ ⁠And much more… \n📅 Starting Sunday 22nd September \n🕒 Sundays after Salatul Maghrib \n✅ Brothers & Sisters Welcome \nJazakum Allahu Khayr
URL:https://wythenshawemasjid.org/events-activities/tafseer-with-imam-abu-zaid-3/2024-10-06/
LOCATION:Wythenshawe Masjid\, 7 Moor End\, Wythenshawe\, M22 4JQ\, United Kingdom
CATEGORIES:Brothers Events,Religious Event,Sisters Event
ATTACH;FMTTYPE=image/webp:https://wythenshawemasjid.org/wp-content/uploads/2024/09/WhatsApp-Image-2024-09-15-at-17.13.48.webp
ORGANIZER;CN="WMA Team":MAILTO:office@wythenshawemasjid.org
END:VEVENT
BEGIN:VEVENT
DTSTART;TZID=Europe/London:20241006T050000
DTEND;TZID=Europe/London:20241006T060000
DTSTAMP:20260426T040820
CREATED:20240528T155542Z
LAST-MODIFIED:20240929T154734Z
UID:10002038-1728190800-1728194400@wythenshawemasjid.org
SUMMARY:Advanced Tilaawat
DESCRIPTION:✨ Advanced Tilawah\nwith Sheikh Salim Astewani \n📅 Sundays after Salatul Fajr \n🚹 For brothers aged 18+ \nJazakum Allahu Khayr
URL:https://wythenshawemasjid.org/events-activities/advanced-tilaawat/2024-10-06/
LOCATION:Wythenshawe Masjid\, 7 Moor End\, Wythenshawe\, M22 4JQ\, United Kingdom
CATEGORIES:Brothers Events,Religious Event
ATTACH;FMTTYPE=image/webp:https://wythenshawemasjid.org/wp-content/uploads/2024/08/WhatsApp-Image-2024-09-10-at-17.11.16.webp
ORGANIZER;CN="WMA Team":MAILTO:office@wythenshawemasjid.org
END:VEVENT
BEGIN:VEVENT
DTSTART;TZID=Europe/London:20241005T040000
DTEND;TZID=Europe/London:20241005T160000
DTSTAMP:20260426T040820
CREATED:20240828T204015Z
LAST-MODIFIED:20241012T205859Z
UID:10001859-1728100800-1728144000@wythenshawemasjid.org
SUMMARY:Intermediate Tajweed
DESCRIPTION:✨ Intermediate Tajweed\nwith Sheikh Salim Astewani \n📅 Saturdays after Salatul Fajr \n🚹 For brothers aged 18+ \nJazakum Allahu Khayr \n 
URL:https://wythenshawemasjid.org/events-activities/intermediate-tajweed-2/2024-10-05/
LOCATION:Wythenshawe Masjid\, 7 Moor End\, Wythenshawe\, M22 4JQ\, United Kingdom
CATEGORIES:Brothers Events,Religious Event
ATTACH;FMTTYPE=image/webp:https://wythenshawemasjid.org/wp-content/uploads/2024/08/WhatsApp-Image-2024-09-10-at-17.11.16.webp
ORGANIZER;CN="WMA Team":MAILTO:office@wythenshawemasjid.org
END:VEVENT
BEGIN:VEVENT
DTSTART;TZID=Europe/London:20240930T193000
DTEND;TZID=Europe/London:20240930T204500
DTSTAMP:20260426T040820
CREATED:20240929T155018Z
LAST-MODIFIED:20240929T155019Z
UID:10002080-1727724600-1727729100@wythenshawemasjid.org
SUMMARY:Adults Tajweed & Tilawah
DESCRIPTION:✨ Adults Tajweed & Tilawah\nwith Imam Abu Zaid \n📚 Improve your recitation and develop your knowledge of Tajweed \n👉 Students should have a basic ability to read the Arabic script \n📅 Started Monday 16th September \n🕒 Mondays after Maghrib for five weeks \n🚹 Brothers aged 18 and above \n❕ Limited spaces\, please register via \nJazakum Allahu Khayr \n 
URL:https://wythenshawemasjid.org/events-activities/adults-tajweed-tilawah-2-2/
LOCATION:Wythenshawe Masjid\, 7 Moor End\, Wythenshawe\, M22 4JQ\, United Kingdom
CATEGORIES:Brothers Events,Religious Event
ATTACH;FMTTYPE=image/webp:https://wythenshawemasjid.org/wp-content/uploads/2024/09/WhatsApp-Image-2024-09-12-at-20.04.30.webp
ORGANIZER;CN="WMA Team":MAILTO:office@wythenshawemasjid.org
END:VEVENT
BEGIN:VEVENT
DTSTART;TZID=Europe/London:20240929T190000
DTEND;TZID=Europe/London:20240929T203000
DTSTAMP:20260426T040820
CREATED:20240929T154918Z
LAST-MODIFIED:20240929T154920Z
UID:10002086-1727636400-1727641800@wythenshawemasjid.org
SUMMARY:Tafseer with Imam Abu Zaid
DESCRIPTION:Tafseer with Imam Abu Zaid \n✨A four-week course exploring short surahs from the Qur’an \n📖 Topics will include:\n•⁠ ⁠Manners\n•⁠ ⁠Faith\n•⁠ ⁠Tawheed\n•⁠ ⁠And much more… \n📅 Starting Sunday 22nd September \n🕒 Sundays after Salatul Maghrib \n✅ Brothers & Sisters Welcome \nJazakum Allahu Khayr
URL:https://wythenshawemasjid.org/events-activities/tafseer-with-imam-abu-zaid-3-3/
LOCATION:Wythenshawe Masjid\, 7 Moor End\, Wythenshawe\, M22 4JQ\, United Kingdom
CATEGORIES:Brothers Events,Religious Event,Sisters Event
ATTACH;FMTTYPE=image/webp:https://wythenshawemasjid.org/wp-content/uploads/2024/09/WhatsApp-Image-2024-09-15-at-17.13.48.webp
ORGANIZER;CN="WMA Team":MAILTO:office@wythenshawemasjid.org
END:VEVENT
BEGIN:VEVENT
DTSTART;TZID=Europe/London:20240929T050000
DTEND;TZID=Europe/London:20240929T060000
DTSTAMP:20260426T040820
CREATED:20240929T154754Z
LAST-MODIFIED:20240929T154756Z
UID:10002037-1727586000-1727589600@wythenshawemasjid.org
SUMMARY:Advanced Tilaawat
DESCRIPTION:✨ Advanced Tilawah\nwith Sheikh Salim Astewani \n📅 Sundays after Salatul Fajr \n🚹 For brothers aged 18+ \nJazakum Allahu Khayr
URL:https://wythenshawemasjid.org/events-activities/advanced-tilaawat-2/
LOCATION:Wythenshawe Masjid\, 7 Moor End\, Wythenshawe\, M22 4JQ\, United Kingdom
CATEGORIES:Brothers Events,Religious Event
ATTACH;FMTTYPE=image/webp:https://wythenshawemasjid.org/wp-content/uploads/2024/08/WhatsApp-Image-2024-09-10-at-17.11.16.webp
ORGANIZER;CN="WMA Team":MAILTO:office@wythenshawemasjid.org
END:VEVENT
BEGIN:VEVENT
DTSTART;TZID=Europe/London:20240928T040000
DTEND;TZID=Europe/London:20240928T160000
DTSTAMP:20260426T040820
CREATED:20240828T204015Z
LAST-MODIFIED:20241012T205859Z
UID:10001858-1727496000-1727539200@wythenshawemasjid.org
SUMMARY:Intermediate Tajweed
DESCRIPTION:✨ Intermediate Tajweed\nwith Sheikh Salim Astewani \n📅 Saturdays after Salatul Fajr \n🚹 For brothers aged 18+ \nJazakum Allahu Khayr \n 
URL:https://wythenshawemasjid.org/events-activities/intermediate-tajweed-2/2024-09-28/
LOCATION:Wythenshawe Masjid\, 7 Moor End\, Wythenshawe\, M22 4JQ\, United Kingdom
CATEGORIES:Brothers Events,Religious Event
ATTACH;FMTTYPE=image/webp:https://wythenshawemasjid.org/wp-content/uploads/2024/08/WhatsApp-Image-2024-09-10-at-17.11.16.webp
ORGANIZER;CN="WMA Team":MAILTO:office@wythenshawemasjid.org
END:VEVENT
BEGIN:VEVENT
DTSTART;TZID=Europe/London:20240923T193000
DTEND;TZID=Europe/London:20240923T204500
DTSTAMP:20260426T040820
CREATED:20240911T140030Z
LAST-MODIFIED:20241007T104055Z
UID:10002079-1727119800-1727124300@wythenshawemasjid.org
SUMMARY:Adults Tajweed & Tilawah
DESCRIPTION:✨ Adults Tajweed & Tilawah\nwith Imam Abu Zaid \n📚 Improve your recitation and develop your knowledge of Tajweed \n👉 Students should have a basic ability to read the Arabic script \n📅 Started Monday 16th September \n🕒 Mondays after Maghrib for five weeks \n🚹 Brothers aged 18 and above \n❕ Limited spaces\, please register via \nJazakum Allahu Khayr \n 
URL:https://wythenshawemasjid.org/events-activities/adults-tajweed-tilawah-2/2024-09-23/
LOCATION:Wythenshawe Masjid\, 7 Moor End\, Wythenshawe\, M22 4JQ\, United Kingdom
CATEGORIES:Brothers Events,Religious Event
ATTACH;FMTTYPE=image/webp:https://wythenshawemasjid.org/wp-content/uploads/2024/09/WhatsApp-Image-2024-09-12-at-20.04.30.webp
ORGANIZER;CN="WMA Team":MAILTO:office@wythenshawemasjid.org
END:VEVENT
BEGIN:VEVENT
DTSTART;TZID=Europe/London:20240922T190000
DTEND;TZID=Europe/London:20240922T203000
DTSTAMP:20260426T040820
CREATED:20240915T162008Z
LAST-MODIFIED:20240915T162010Z
UID:10002085-1727031600-1727037000@wythenshawemasjid.org
SUMMARY:Tafseer with Imam Abu Zaid
DESCRIPTION:Tafseer with Imam Abu Zaid \n✨A four-week course exploring short surahs from the Qur’an \n📖 Topics will include:\n•⁠ ⁠Manners\n•⁠ ⁠Faith\n•⁠ ⁠Tawheed\n•⁠ ⁠And much more… \n📅 Starting Sunday 22nd September \n🕒 Sundays after Salatul Maghrib \n✅ Brothers & Sisters Welcome \nJazakum Allahu Khayr
URL:https://wythenshawemasjid.org/events-activities/tafseer-with-imam-abu-zaid-3-2/
LOCATION:Wythenshawe Masjid\, 7 Moor End\, Wythenshawe\, M22 4JQ\, United Kingdom
CATEGORIES:Brothers Events,Religious Event,Sisters Event
ATTACH;FMTTYPE=image/webp:https://wythenshawemasjid.org/wp-content/uploads/2024/09/WhatsApp-Image-2024-09-15-at-17.13.48.webp
ORGANIZER;CN="WMA Team":MAILTO:office@wythenshawemasjid.org
END:VEVENT
BEGIN:VEVENT
DTSTART;TZID=Europe/London:20240922T050000
DTEND;TZID=Europe/London:20240922T060000
DTSTAMP:20260426T040820
CREATED:20240528T155542Z
LAST-MODIFIED:20240929T154734Z
UID:10002036-1726981200-1726984800@wythenshawemasjid.org
SUMMARY:Advanced Tilaawat
DESCRIPTION:✨ Advanced Tilawah\nwith Sheikh Salim Astewani \n📅 Sundays after Salatul Fajr \n🚹 For brothers aged 18+ \nJazakum Allahu Khayr
URL:https://wythenshawemasjid.org/events-activities/advanced-tilaawat/2024-09-22/
LOCATION:Wythenshawe Masjid\, 7 Moor End\, Wythenshawe\, M22 4JQ\, United Kingdom
CATEGORIES:Brothers Events,Religious Event
ATTACH;FMTTYPE=image/webp:https://wythenshawemasjid.org/wp-content/uploads/2024/08/WhatsApp-Image-2024-09-10-at-17.11.16.webp
ORGANIZER;CN="WMA Team":MAILTO:office@wythenshawemasjid.org
END:VEVENT
BEGIN:VEVENT
DTSTART;TZID=Europe/London:20240921T040000
DTEND;TZID=Europe/London:20240921T160000
DTSTAMP:20260426T040820
CREATED:20240828T204015Z
LAST-MODIFIED:20241012T205859Z
UID:10001857-1726891200-1726934400@wythenshawemasjid.org
SUMMARY:Intermediate Tajweed
DESCRIPTION:✨ Intermediate Tajweed\nwith Sheikh Salim Astewani \n📅 Saturdays after Salatul Fajr \n🚹 For brothers aged 18+ \nJazakum Allahu Khayr \n 
URL:https://wythenshawemasjid.org/events-activities/intermediate-tajweed-2/2024-09-21/
LOCATION:Wythenshawe Masjid\, 7 Moor End\, Wythenshawe\, M22 4JQ\, United Kingdom
CATEGORIES:Brothers Events,Religious Event
ATTACH;FMTTYPE=image/webp:https://wythenshawemasjid.org/wp-content/uploads/2024/08/WhatsApp-Image-2024-09-10-at-17.11.16.webp
ORGANIZER;CN="WMA Team":MAILTO:office@wythenshawemasjid.org
END:VEVENT
BEGIN:VEVENT
DTSTART;TZID=Europe/London:20240916T194500
DTEND;TZID=Europe/London:20240916T210000
DTSTAMP:20260426T040820
CREATED:20240911T140009Z
LAST-MODIFIED:20240915T163002Z
UID:10002078-1726515900-1726520400@wythenshawemasjid.org
SUMMARY:Adults Tajweed & Tilawah
DESCRIPTION:✨ Adults Tajweed & Tilawah\nwith Imam Abu Zaid \n📚 Improve your recitation and develop your knowledge of Tajweed \n👉 Students should have a basic ability to read the Arabic script \n📅 Starting Monday 16th September \n🕒 Mondays after Maghrib for five weeks \n🚹 Brothers aged 18 and above \n❕ Limited spaces\, please register \nJazakum Allahu Khayr
URL:https://wythenshawemasjid.org/events-activities/adults-tajweed-tilawah/
LOCATION:Wythenshawe Masjid\, 7 Moor End\, Wythenshawe\, M22 4JQ\, United Kingdom
CATEGORIES:Brothers Events,Religious Event
ATTACH;FMTTYPE=image/webp:https://wythenshawemasjid.org/wp-content/uploads/2024/09/WhatsApp-Image-2024-09-12-at-20.04.30.webp
ORGANIZER;CN="WMA Team":MAILTO:office@wythenshawemasjid.org
END:VEVENT
BEGIN:VEVENT
DTSTART;TZID=Europe/London:20240915T050000
DTEND;TZID=Europe/London:20240915T060000
DTSTAMP:20260426T040820
CREATED:20240528T155542Z
LAST-MODIFIED:20240929T154734Z
UID:10002035-1726376400-1726380000@wythenshawemasjid.org
SUMMARY:Advanced Tilaawat
DESCRIPTION:✨ Advanced Tilawah\nwith Sheikh Salim Astewani \n📅 Sundays after Salatul Fajr \n🚹 For brothers aged 18+ \nJazakum Allahu Khayr
URL:https://wythenshawemasjid.org/events-activities/advanced-tilaawat/2024-09-15/
LOCATION:Wythenshawe Masjid\, 7 Moor End\, Wythenshawe\, M22 4JQ\, United Kingdom
CATEGORIES:Brothers Events,Religious Event
ATTACH;FMTTYPE=image/webp:https://wythenshawemasjid.org/wp-content/uploads/2024/08/WhatsApp-Image-2024-09-10-at-17.11.16.webp
ORGANIZER;CN="WMA Team":MAILTO:office@wythenshawemasjid.org
END:VEVENT
BEGIN:VEVENT
DTSTART;TZID=Europe/London:20240914T040000
DTEND;TZID=Europe/London:20240914T160000
DTSTAMP:20260426T040820
CREATED:20240828T204015Z
LAST-MODIFIED:20241012T205859Z
UID:10001856-1726286400-1726329600@wythenshawemasjid.org
SUMMARY:Intermediate Tajweed
DESCRIPTION:✨ Intermediate Tajweed\nwith Sheikh Salim Astewani \n📅 Saturdays after Salatul Fajr \n🚹 For brothers aged 18+ \nJazakum Allahu Khayr \n 
URL:https://wythenshawemasjid.org/events-activities/intermediate-tajweed-2/2024-09-14/
LOCATION:Wythenshawe Masjid\, 7 Moor End\, Wythenshawe\, M22 4JQ\, United Kingdom
CATEGORIES:Brothers Events,Religious Event
ATTACH;FMTTYPE=image/webp:https://wythenshawemasjid.org/wp-content/uploads/2024/08/WhatsApp-Image-2024-09-10-at-17.11.16.webp
ORGANIZER;CN="WMA Team":MAILTO:office@wythenshawemasjid.org
END:VEVENT
BEGIN:VEVENT
DTSTART;TZID=Europe/London:20240908T050000
DTEND;TZID=Europe/London:20240908T060000
DTSTAMP:20260426T040820
CREATED:20240528T155542Z
LAST-MODIFIED:20240929T154734Z
UID:10002034-1725771600-1725775200@wythenshawemasjid.org
SUMMARY:Advanced Tilaawat
DESCRIPTION:✨ Advanced Tilawah\nwith Sheikh Salim Astewani \n📅 Sundays after Salatul Fajr \n🚹 For brothers aged 18+ \nJazakum Allahu Khayr
URL:https://wythenshawemasjid.org/events-activities/advanced-tilaawat/2024-09-08/
LOCATION:Wythenshawe Masjid\, 7 Moor End\, Wythenshawe\, M22 4JQ\, United Kingdom
CATEGORIES:Brothers Events,Religious Event
ATTACH;FMTTYPE=image/webp:https://wythenshawemasjid.org/wp-content/uploads/2024/08/WhatsApp-Image-2024-09-10-at-17.11.16.webp
ORGANIZER;CN="WMA Team":MAILTO:office@wythenshawemasjid.org
END:VEVENT
BEGIN:VEVENT
DTSTART;TZID=Europe/London:20240907T040000
DTEND;TZID=Europe/London:20240907T160000
DTSTAMP:20260426T040820
CREATED:20240828T204015Z
LAST-MODIFIED:20241012T205859Z
UID:10001855-1725681600-1725724800@wythenshawemasjid.org
SUMMARY:Intermediate Tajweed
DESCRIPTION:✨ Intermediate Tajweed\nwith Sheikh Salim Astewani \n📅 Saturdays after Salatul Fajr \n🚹 For brothers aged 18+ \nJazakum Allahu Khayr \n 
URL:https://wythenshawemasjid.org/events-activities/intermediate-tajweed-2/2024-09-07/
LOCATION:Wythenshawe Masjid\, 7 Moor End\, Wythenshawe\, M22 4JQ\, United Kingdom
CATEGORIES:Brothers Events,Religious Event
ATTACH;FMTTYPE=image/webp:https://wythenshawemasjid.org/wp-content/uploads/2024/08/WhatsApp-Image-2024-09-10-at-17.11.16.webp
ORGANIZER;CN="WMA Team":MAILTO:office@wythenshawemasjid.org
END:VEVENT
BEGIN:VEVENT
DTSTART;TZID=Europe/London:20240901T050000
DTEND;TZID=Europe/London:20240901T060000
DTSTAMP:20260426T040820
CREATED:20240528T155542Z
LAST-MODIFIED:20240929T154734Z
UID:10002033-1725166800-1725170400@wythenshawemasjid.org
SUMMARY:Advanced Tilaawat
DESCRIPTION:✨ Advanced Tilawah\nwith Sheikh Salim Astewani \n📅 Sundays after Salatul Fajr \n🚹 For brothers aged 18+ \nJazakum Allahu Khayr
URL:https://wythenshawemasjid.org/events-activities/advanced-tilaawat/2024-09-01/
LOCATION:Wythenshawe Masjid\, 7 Moor End\, Wythenshawe\, M22 4JQ\, United Kingdom
CATEGORIES:Brothers Events,Religious Event
ATTACH;FMTTYPE=image/webp:https://wythenshawemasjid.org/wp-content/uploads/2024/08/WhatsApp-Image-2024-09-10-at-17.11.16.webp
ORGANIZER;CN="WMA Team":MAILTO:office@wythenshawemasjid.org
END:VEVENT
BEGIN:VEVENT
DTSTART;TZID=Europe/London:20240831T050000
DTEND;TZID=Europe/London:20240831T050000
DTSTAMP:20260426T040820
CREATED:20240828T204656Z
LAST-MODIFIED:20240828T204656Z
UID:10002059-1725080400-1725080400@wythenshawemasjid.org
SUMMARY:Intermediate Tajweed
DESCRIPTION:✨ Intermediate Tajweed\nwith Sheikh Salim Astewani \n📅 Saturdays after Salatul Fajr \n🚹 For brothers aged 18+ \nJazakum Allahu Khayr \n 
URL:https://wythenshawemasjid.org/events-activities/intermediate-tajweed-4/
LOCATION:Wythenshawe Masjid\, 7 Moor End\, Wythenshawe\, M22 4JQ\, United Kingdom
CATEGORIES:Brothers Events,Religious Event
ATTACH;FMTTYPE=image/webp:https://wythenshawemasjid.org/wp-content/uploads/2024/05/Intermediate-Tajweed-2024.webp
ORGANIZER;CN="WMA Team":MAILTO:office@wythenshawemasjid.org
END:VEVENT
BEGIN:VEVENT
DTSTART;TZID=Europe/London:20240825T050000
DTEND;TZID=Europe/London:20240825T060000
DTSTAMP:20260426T040820
CREATED:20240528T155542Z
LAST-MODIFIED:20240929T154734Z
UID:10002032-1724562000-1724565600@wythenshawemasjid.org
SUMMARY:Advanced Tilaawat
DESCRIPTION:✨ Advanced Tilawah\nwith Sheikh Salim Astewani \n📅 Sundays after Salatul Fajr \n🚹 For brothers aged 18+ \nJazakum Allahu Khayr
URL:https://wythenshawemasjid.org/events-activities/advanced-tilaawat/2024-08-25/
LOCATION:Wythenshawe Masjid\, 7 Moor End\, Wythenshawe\, M22 4JQ\, United Kingdom
CATEGORIES:Brothers Events,Religious Event
ATTACH;FMTTYPE=image/webp:https://wythenshawemasjid.org/wp-content/uploads/2024/08/WhatsApp-Image-2024-09-10-at-17.11.16.webp
ORGANIZER;CN="WMA Team":MAILTO:office@wythenshawemasjid.org
END:VEVENT
BEGIN:VEVENT
DTSTART;TZID=Europe/London:20240824T040000
DTEND;TZID=Europe/London:20240824T160000
DTSTAMP:20260426T040820
CREATED:20240528T162223Z
LAST-MODIFIED:20240528T162223Z
UID:10001853-1724472000-1724515200@wythenshawemasjid.org
SUMMARY:Intermediate Tajweed
DESCRIPTION:✨ Intermediate Tajweed\nwith Sheikh Salim Astewani \n📅 Saturdays after Salatul Fajr \n🚹 For brothers aged 18+ \nJazakum Allahu Khayr \n 
URL:https://wythenshawemasjid.org/events-activities/intermediate-tajweed/2024-08-24/
LOCATION:Wythenshawe Masjid\, 7 Moor End\, Wythenshawe\, M22 4JQ\, United Kingdom
CATEGORIES:Brothers Events,Religious Event
ATTACH;FMTTYPE=image/webp:https://wythenshawemasjid.org/wp-content/uploads/2024/05/Intermediate-Tajweed-2024.webp
ORGANIZER;CN="WMA Team":MAILTO:office@wythenshawemasjid.org
END:VEVENT
BEGIN:VEVENT
DTSTART;TZID=Europe/London:20240818T050000
DTEND;TZID=Europe/London:20240818T060000
DTSTAMP:20260426T040820
CREATED:20240528T155542Z
LAST-MODIFIED:20240929T154734Z
UID:10002031-1723957200-1723960800@wythenshawemasjid.org
SUMMARY:Advanced Tilaawat
DESCRIPTION:✨ Advanced Tilawah\nwith Sheikh Salim Astewani \n📅 Sundays after Salatul Fajr \n🚹 For brothers aged 18+ \nJazakum Allahu Khayr
URL:https://wythenshawemasjid.org/events-activities/advanced-tilaawat/2024-08-18/
LOCATION:Wythenshawe Masjid\, 7 Moor End\, Wythenshawe\, M22 4JQ\, United Kingdom
CATEGORIES:Brothers Events,Religious Event
ATTACH;FMTTYPE=image/webp:https://wythenshawemasjid.org/wp-content/uploads/2024/08/WhatsApp-Image-2024-09-10-at-17.11.16.webp
ORGANIZER;CN="WMA Team":MAILTO:office@wythenshawemasjid.org
END:VEVENT
BEGIN:VEVENT
DTSTART;TZID=Europe/London:20240817T040000
DTEND;TZID=Europe/London:20240817T160000
DTSTAMP:20260426T040820
CREATED:20240528T162223Z
LAST-MODIFIED:20240528T162223Z
UID:10001852-1723867200-1723910400@wythenshawemasjid.org
SUMMARY:Intermediate Tajweed
DESCRIPTION:✨ Intermediate Tajweed\nwith Sheikh Salim Astewani \n📅 Saturdays after Salatul Fajr \n🚹 For brothers aged 18+ \nJazakum Allahu Khayr \n 
URL:https://wythenshawemasjid.org/events-activities/intermediate-tajweed/2024-08-17/
LOCATION:Wythenshawe Masjid\, 7 Moor End\, Wythenshawe\, M22 4JQ\, United Kingdom
CATEGORIES:Brothers Events,Religious Event
ATTACH;FMTTYPE=image/webp:https://wythenshawemasjid.org/wp-content/uploads/2024/05/Intermediate-Tajweed-2024.webp
ORGANIZER;CN="WMA Team":MAILTO:office@wythenshawemasjid.org
END:VEVENT
BEGIN:VEVENT
DTSTART;TZID=Europe/London:20240811T050000
DTEND;TZID=Europe/London:20240811T060000
DTSTAMP:20260426T040820
CREATED:20240528T155542Z
LAST-MODIFIED:20240929T154734Z
UID:10002030-1723352400-1723356000@wythenshawemasjid.org
SUMMARY:Advanced Tilaawat
DESCRIPTION:✨ Advanced Tilawah\nwith Sheikh Salim Astewani \n📅 Sundays after Salatul Fajr \n🚹 For brothers aged 18+ \nJazakum Allahu Khayr
URL:https://wythenshawemasjid.org/events-activities/advanced-tilaawat/2024-08-11/
LOCATION:Wythenshawe Masjid\, 7 Moor End\, Wythenshawe\, M22 4JQ\, United Kingdom
CATEGORIES:Brothers Events,Religious Event
ATTACH;FMTTYPE=image/webp:https://wythenshawemasjid.org/wp-content/uploads/2024/08/WhatsApp-Image-2024-09-10-at-17.11.16.webp
ORGANIZER;CN="WMA Team":MAILTO:office@wythenshawemasjid.org
END:VEVENT
BEGIN:VEVENT
DTSTART;TZID=Europe/London:20240810T040000
DTEND;TZID=Europe/London:20240810T160000
DTSTAMP:20260426T040820
CREATED:20240528T162223Z
LAST-MODIFIED:20240528T162223Z
UID:10001851-1723262400-1723305600@wythenshawemasjid.org
SUMMARY:Intermediate Tajweed
DESCRIPTION:✨ Intermediate Tajweed\nwith Sheikh Salim Astewani \n📅 Saturdays after Salatul Fajr \n🚹 For brothers aged 18+ \nJazakum Allahu Khayr \n 
URL:https://wythenshawemasjid.org/events-activities/intermediate-tajweed/2024-08-10/
LOCATION:Wythenshawe Masjid\, 7 Moor End\, Wythenshawe\, M22 4JQ\, United Kingdom
CATEGORIES:Brothers Events,Religious Event
ATTACH;FMTTYPE=image/webp:https://wythenshawemasjid.org/wp-content/uploads/2024/05/Intermediate-Tajweed-2024.webp
ORGANIZER;CN="WMA Team":MAILTO:office@wythenshawemasjid.org
END:VEVENT
BEGIN:VEVENT
DTSTART;TZID=Europe/London:20240804T050000
DTEND;TZID=Europe/London:20240804T060000
DTSTAMP:20260426T040820
CREATED:20240528T155542Z
LAST-MODIFIED:20240929T154734Z
UID:10002029-1722747600-1722751200@wythenshawemasjid.org
SUMMARY:Advanced Tilaawat
DESCRIPTION:✨ Advanced Tilawah\nwith Sheikh Salim Astewani \n📅 Sundays after Salatul Fajr \n🚹 For brothers aged 18+ \nJazakum Allahu Khayr
URL:https://wythenshawemasjid.org/events-activities/advanced-tilaawat/2024-08-04/
LOCATION:Wythenshawe Masjid\, 7 Moor End\, Wythenshawe\, M22 4JQ\, United Kingdom
CATEGORIES:Brothers Events,Religious Event
ATTACH;FMTTYPE=image/webp:https://wythenshawemasjid.org/wp-content/uploads/2024/08/WhatsApp-Image-2024-09-10-at-17.11.16.webp
ORGANIZER;CN="WMA Team":MAILTO:office@wythenshawemasjid.org
END:VEVENT
BEGIN:VEVENT
DTSTART;TZID=Europe/London:20240803T040000
DTEND;TZID=Europe/London:20240803T160000
DTSTAMP:20260426T040820
CREATED:20240528T162223Z
LAST-MODIFIED:20240528T162223Z
UID:10001850-1722657600-1722700800@wythenshawemasjid.org
SUMMARY:Intermediate Tajweed
DESCRIPTION:✨ Intermediate Tajweed\nwith Sheikh Salim Astewani \n📅 Saturdays after Salatul Fajr \n🚹 For brothers aged 18+ \nJazakum Allahu Khayr \n 
URL:https://wythenshawemasjid.org/events-activities/intermediate-tajweed/2024-08-03/
LOCATION:Wythenshawe Masjid\, 7 Moor End\, Wythenshawe\, M22 4JQ\, United Kingdom
CATEGORIES:Brothers Events,Religious Event
ATTACH;FMTTYPE=image/webp:https://wythenshawemasjid.org/wp-content/uploads/2024/05/Intermediate-Tajweed-2024.webp
ORGANIZER;CN="WMA Team":MAILTO:office@wythenshawemasjid.org
END:VEVENT
BEGIN:VEVENT
DTSTART;TZID=Europe/London:20240728T050000
DTEND;TZID=Europe/London:20240728T060000
DTSTAMP:20260426T040820
CREATED:20240528T155542Z
LAST-MODIFIED:20240929T154734Z
UID:10002028-1722142800-1722146400@wythenshawemasjid.org
SUMMARY:Advanced Tilaawat
DESCRIPTION:✨ Advanced Tilawah\nwith Sheikh Salim Astewani \n📅 Sundays after Salatul Fajr \n🚹 For brothers aged 18+ \nJazakum Allahu Khayr
URL:https://wythenshawemasjid.org/events-activities/advanced-tilaawat/2024-07-28/
LOCATION:Wythenshawe Masjid\, 7 Moor End\, Wythenshawe\, M22 4JQ\, United Kingdom
CATEGORIES:Brothers Events,Religious Event
ATTACH;FMTTYPE=image/webp:https://wythenshawemasjid.org/wp-content/uploads/2024/08/WhatsApp-Image-2024-09-10-at-17.11.16.webp
ORGANIZER;CN="WMA Team":MAILTO:office@wythenshawemasjid.org
END:VEVENT
BEGIN:VEVENT
DTSTART;TZID=Europe/London:20240727T040000
DTEND;TZID=Europe/London:20240727T160000
DTSTAMP:20260426T040820
CREATED:20240528T162223Z
LAST-MODIFIED:20240528T162223Z
UID:10001849-1722052800-1722096000@wythenshawemasjid.org
SUMMARY:Intermediate Tajweed
DESCRIPTION:✨ Intermediate Tajweed\nwith Sheikh Salim Astewani \n📅 Saturdays after Salatul Fajr \n🚹 For brothers aged 18+ \nJazakum Allahu Khayr \n 
URL:https://wythenshawemasjid.org/events-activities/intermediate-tajweed/2024-07-27/
LOCATION:Wythenshawe Masjid\, 7 Moor End\, Wythenshawe\, M22 4JQ\, United Kingdom
CATEGORIES:Brothers Events,Religious Event
ATTACH;FMTTYPE=image/webp:https://wythenshawemasjid.org/wp-content/uploads/2024/05/Intermediate-Tajweed-2024.webp
ORGANIZER;CN="WMA Team":MAILTO:office@wythenshawemasjid.org
END:VEVENT
BEGIN:VEVENT
DTSTART;TZID=Europe/London:20240721T050000
DTEND;TZID=Europe/London:20240721T060000
DTSTAMP:20260426T040820
CREATED:20240528T155542Z
LAST-MODIFIED:20240929T154734Z
UID:10002027-1721538000-1721541600@wythenshawemasjid.org
SUMMARY:Advanced Tilaawat
DESCRIPTION:✨ Advanced Tilawah\nwith Sheikh Salim Astewani \n📅 Sundays after Salatul Fajr \n🚹 For brothers aged 18+ \nJazakum Allahu Khayr
URL:https://wythenshawemasjid.org/events-activities/advanced-tilaawat/2024-07-21/
LOCATION:Wythenshawe Masjid\, 7 Moor End\, Wythenshawe\, M22 4JQ\, United Kingdom
CATEGORIES:Brothers Events,Religious Event
ATTACH;FMTTYPE=image/webp:https://wythenshawemasjid.org/wp-content/uploads/2024/08/WhatsApp-Image-2024-09-10-at-17.11.16.webp
ORGANIZER;CN="WMA Team":MAILTO:office@wythenshawemasjid.org
END:VEVENT
BEGIN:VEVENT
DTSTART;TZID=Europe/London:20240720T040000
DTEND;TZID=Europe/London:20240720T160000
DTSTAMP:20260426T040820
CREATED:20240528T162223Z
LAST-MODIFIED:20240528T162223Z
UID:10001848-1721448000-1721491200@wythenshawemasjid.org
SUMMARY:Intermediate Tajweed
DESCRIPTION:✨ Intermediate Tajweed\nwith Sheikh Salim Astewani \n📅 Saturdays after Salatul Fajr \n🚹 For brothers aged 18+ \nJazakum Allahu Khayr \n 
URL:https://wythenshawemasjid.org/events-activities/intermediate-tajweed/2024-07-20/
LOCATION:Wythenshawe Masjid\, 7 Moor End\, Wythenshawe\, M22 4JQ\, United Kingdom
CATEGORIES:Brothers Events,Religious Event
ATTACH;FMTTYPE=image/webp:https://wythenshawemasjid.org/wp-content/uploads/2024/05/Intermediate-Tajweed-2024.webp
ORGANIZER;CN="WMA Team":MAILTO:office@wythenshawemasjid.org
END:VEVENT
END:VCALENDAR